BEGIN:VCALENDAR
VERSION:2.0
PRODID:-//Chez Kane - ECPv5.9.1//NONSGML v1.0//EN
CALSCALE:GREGORIAN
METHOD:PUBLISH
X-WR-CALNAME:Chez Kane
X-ORIGINAL-URL:https://www.chezkane.com
X-WR-CALDESC:Events for Chez Kane
BEGIN:VTIMEZONE
TZID:UTC
BEGIN:STANDARD
TZOFFSETFROM:+0000
TZOFFSETTO:+0000
TZNAME:UTC
DTSTART:20210101T000000
END:STANDARD
END:VTIMEZONE
BEGIN:VEVENT
DTSTART;TZID=UTC:20230429T080000
DTEND;TZID=UTC:20230504T170000
DTSTAMP:20260425T011901
CREATED:20220514T173710Z
LAST-MODIFIED:20220514T173710Z
UID:1092-1682755200-1683219600@www.chezkane.com
SUMMARY:Monsters of Rock Cruise
DESCRIPTION:
URL:https://www.chezkane.com/event/monsters-of-rock-cruise/
LOCATION:USA
END:VEVENT
BEGIN:VEVENT
DTSTART;VALUE=DATE:20230415
DTEND;VALUE=DATE:20230416
DTSTAMP:20260425T011901
CREATED:20230120T223544Z
LAST-MODIFIED:20230325T131231Z
UID:1425-1681516800-1681603199@www.chezkane.com
SUMMARY:Paunchy Cats
DESCRIPTION:
URL:https://www.chezkane.com/event/paunchycats/
LOCATION:Lichtenfels\, Germany
END:VEVENT
BEGIN:VEVENT
DTSTART;VALUE=DATE:20230414
DTEND;VALUE=DATE:20230415
DTSTAMP:20260425T011901
CREATED:20230120T223213Z
LAST-MODIFIED:20230120T223308Z
UID:1420-1681430400-1681516799@www.chezkane.com
SUMMARY:Habbels - Kulturbühne und Eventlocation
DESCRIPTION:Tickets: shorturl.at/jklST
URL:https://www.chezkane.com/event/habbels-kulturbuhne-und-eventlocation/
LOCATION:Schmallenberg\, Germany
END:VEVENT
BEGIN:VEVENT
DTSTART;VALUE=DATE:20230114
DTEND;VALUE=DATE:20230115
DTSTAMP:20260425T011901
CREATED:20220713T185816Z
LAST-MODIFIED:20220713T185816Z
UID:1128-1673654400-1673740799@www.chezkane.com
SUMMARY:Moby Dick Club Madrid
DESCRIPTION:TICKET LINK:\nhttps://www.ticketmaster.es/event/chez-kane-entradas/31875
URL:https://www.chezkane.com/event/moby-dick-club-madrid/
LOCATION:Spain
END:VEVENT
BEGIN:VEVENT
DTSTART;VALUE=DATE:20230113
DTEND;VALUE=DATE:20230114
DTSTAMP:20260425T011901
CREATED:20220713T185619Z
LAST-MODIFIED:20220713T185619Z
UID:1122-1673568000-1673654399@www.chezkane.com
SUMMARY:Wolf Barcelona
DESCRIPTION:TICKET LINK:\nhttps://www.ticketmaster.es/event/31403
URL:https://www.chezkane.com/event/wolf-barcelona/
LOCATION:Spain
END:VEVENT
BEGIN:VEVENT
DTSTART;VALUE=DATE:20221217
DTEND;VALUE=DATE:20221218
DTSTAMP:20260425T011901
CREATED:20220713T184431Z
LAST-MODIFIED:20220713T184431Z
UID:1119-1671235200-1671321599@www.chezkane.com
SUMMARY:Stockholm Rock Out
DESCRIPTION:TICKET LINK:\nhttps://www.tickster.com/sv/events/h5dn7wn75nwuyke/2022-12-16/stockholm-rock-out-2022
URL:https://www.chezkane.com/event/stockholm-rock-out-2/
LOCATION:Stockholm
END:VEVENT
BEGIN:VEVENT
DTSTART;VALUE=DATE:20221126
DTEND;VALUE=DATE:20221127
DTSTAMP:20260425T011901
CREATED:20220315T143311Z
LAST-MODIFIED:20220315T143402Z
UID:1045-1669420800-1669507199@www.chezkane.com
SUMMARY:All Star Fest
DESCRIPTION:
URL:https://www.chezkane.com/event/all-star-fest/
LOCATION:Antwerp\, Belgium
END:VEVENT
BEGIN:VEVENT
DTSTART;VALUE=DATE:20221120
DTEND;VALUE=DATE:20221121
DTSTAMP:20260425T011901
CREATED:20220514T173109Z
LAST-MODIFIED:20220514T173109Z
UID:1088-1668902400-1668988799@www.chezkane.com
SUMMARY:The Station
DESCRIPTION:TICKET LINK:\nhttps://www.ticketsource.co.uk/whats-on?q=chez%20kane
URL:https://www.chezkane.com/event/the-station/
LOCATION:Cannock
END:VEVENT
BEGIN:VEVENT
DTSTART;VALUE=DATE:20221119
DTEND;VALUE=DATE:20221120
DTSTAMP:20260425T011901
CREATED:20220404T171136Z
LAST-MODIFIED:20220514T173153Z
UID:1058-1668816000-1668902399@www.chezkane.com
SUMMARY:Fiendfest
DESCRIPTION:TICKET LINK:\nhttps://ticket247.co.uk/Event/64997
URL:https://www.chezkane.com/event/fiendfest/
LOCATION:Ivory Blacks\, Glasgow
END:VEVENT
BEGIN:VEVENT
DTSTART;VALUE=DATE:20221118
DTEND;VALUE=DATE:20221119
DTSTAMP:20260425T011901
CREATED:20220514T172955Z
LAST-MODIFIED:20220514T172955Z
UID:1085-1668729600-1668815999@www.chezkane.com
SUMMARY:The Corporation
DESCRIPTION:TICKET LINK:\nhttps://www.corporation.org.uk/gig/2608
URL:https://www.chezkane.com/event/the-corporation/
LOCATION:Sheffield
END:VEVENT
BEGIN:VEVENT
DTSTART;VALUE=DATE:20221106
DTEND;VALUE=DATE:20221107
DTSTAMP:20260425T011901
CREATED:20220514T172817Z
LAST-MODIFIED:20220514T172817Z
UID:1082-1667692800-1667779199@www.chezkane.com
SUMMARY:Think Tank?
DESCRIPTION:TICKET LINK:\nhttps://wearethinktank.ticketline.co.uk/order/tickets/13362720/chez-kane-think-tank-newcastle-2022-11-06-19-00-00
URL:https://www.chezkane.com/event/think-tank/
LOCATION:Newcastle
END:VEVENT
BEGIN:VEVENT
DTSTART;VALUE=DATE:20221105
DTEND;VALUE=DATE:20221106
DTSTAMP:20260425T011901
CREATED:20220514T172534Z
LAST-MODIFIED:20220514T172534Z
UID:1079-1667606400-1667692799@www.chezkane.com
SUMMARY:Nightrain
DESCRIPTION:TICKET LINK:\nhttps://www.ticketweb.uk/event/chez-kane-uk-nightrain-tickets/12098775
URL:https://www.chezkane.com/event/nightrain/
LOCATION:Bradford
END:VEVENT
BEGIN:VEVENT
DTSTART;VALUE=DATE:20221104
DTEND;VALUE=DATE:20221105
DTSTAMP:20260425T011901
CREATED:20220514T172101Z
LAST-MODIFIED:20220514T172553Z
UID:1075-1667520000-1667606399@www.chezkane.com
SUMMARY:The Patriot
DESCRIPTION:TICKET LINK:\nhttps://www.derricksmusic.co.uk/events/524-chez-kane-plus-guest
URL:https://www.chezkane.com/event/the-patriot/
LOCATION:Crumlin\, Newport
END:VEVENT
BEGIN:VEVENT
DTSTART;VALUE=DATE:20221103
DTEND;VALUE=DATE:20221104
DTSTAMP:20260425T011901
CREATED:20220514T171951Z
LAST-MODIFIED:20220514T172125Z
UID:1073-1667433600-1667519999@www.chezkane.com
SUMMARY:Waterloo Bar
DESCRIPTION:TICKET LINK:\nhttps://www.seetickets.com/tour/chez-kane
URL:https://www.chezkane.com/event/waterloo-bar/
LOCATION:Blackpool
END:VEVENT
BEGIN:VEVENT
DTSTART;VALUE=DATE:20221028
DTEND;VALUE=DATE:20221029
DTSTAMP:20260425T011901
CREATED:20220514T170427Z
LAST-MODIFIED:20220520T180959Z
UID:1069-1666915200-1667001599@www.chezkane.com
SUMMARY:The Tivoli
DESCRIPTION:TICKET LINK:\nhttp://tivolivenue.com/product/chez-kane-friday-28th-october-2022/
URL:https://www.chezkane.com/event/the-tivoli/
LOCATION:Buckley
END:VEVENT
BEGIN:VEVENT
DTSTART;VALUE=DATE:20221027
DTEND;VALUE=DATE:20221028
DTSTAMP:20260425T011901
CREATED:20220514T165933Z
LAST-MODIFIED:20220520T180926Z
UID:1067-1666828800-1666915199@www.chezkane.com
SUMMARY:o2 Academy 2
DESCRIPTION:TICKET LINK:\nhttps://www.ticketmaster.co.uk/holloway-strip-chez-kane-london-27-10-2022/event/1F005CA9CFBA4FC7
URL:https://www.chezkane.com/event/o2-academy-2/
LOCATION:Islington\, London
END:VEVENT
BEGIN:VEVENT
DTSTART;VALUE=DATE:20220911
DTEND;VALUE=DATE:20220912
DTSTAMP:20260425T011901
CREATED:20220315T142810Z
LAST-MODIFIED:20220404T171252Z
UID:1033-1662854400-1662940799@www.chezkane.com
SUMMARY:Rockin' The Bowl
DESCRIPTION:
URL:https://www.chezkane.com/event/rockin-the-bowl-sheffield/
LOCATION:Done Valley Bowl\, Sheffield
END:VEVENT
BEGIN:VEVENT
DTSTART;VALUE=DATE:20220619
DTEND;VALUE=DATE:20220620
DTSTAMP:20260425T011901
CREATED:20211012T132236Z
LAST-MODIFIED:20220315T141805Z
UID:992-1655596800-1655683199@www.chezkane.com
SUMMARY:HRH AOR IX
DESCRIPTION:
URL:https://www.chezkane.com/event/hrh-aor-ix/
LOCATION:O2 Ritz\, Manchester\, United Kingdom
END:VEVENT
BEGIN:VEVENT
DTSTART;TZID=UTC:20220507T190000
DTEND;TZID=UTC:20220507T230000
DTSTAMP:20260425T011901
CREATED:20220315T142314Z
LAST-MODIFIED:20220315T142854Z
UID:1031-1651950000-1651964400@www.chezkane.com
SUMMARY:KK's Steel Mill w/Crazy Lixx
DESCRIPTION:
URL:https://www.chezkane.com/event/kks-steel-mill-wolverhampton-w-crazy-lixx/
LOCATION:Wolverhampton
END:VEVENT
BEGIN:VEVENT
DTSTART;TZID=UTC:20220506T190000
DTEND;TZID=UTC:20220506T230000
DTSTAMP:20260425T011901
CREATED:20220315T142113Z
LAST-MODIFIED:20220315T143031Z
UID:1028-1651863600-1651878000@www.chezkane.com
SUMMARY:o2 Academy w/Crazy Lixx
DESCRIPTION:
URL:https://www.chezkane.com/event/o2-academy-islington-london-w-crazy-lixx/
LOCATION:Islington\, London
END:VEVENT
BEGIN:VEVENT
DTSTART;VALUE=DATE:20220505
DTEND;VALUE=DATE:20220506
DTSTAMP:20260425T011901
CREATED:20220315T141447Z
LAST-MODIFIED:20220315T142946Z
UID:1023-1651708800-1651795199@www.chezkane.com
SUMMARY:HRH Road Trip
DESCRIPTION:
URL:https://www.chezkane.com/event/hrh-road-trip-ibiza/
LOCATION:Ibiza
END:VEVENT
BEGIN:VEVENT
DTSTART;VALUE=DATE:20220430
DTEND;VALUE=DATE:20220501
DTSTAMP:20260425T011901
CREATED:20220401T130302Z
LAST-MODIFIED:20220401T130302Z
UID:1054-1651276800-1651363199@www.chezkane.com
SUMMARY:Station 18 Festival
DESCRIPTION:
URL:https://www.chezkane.com/event/station-18-festival/
LOCATION:Hangar 18\, Swansea
END:VEVENT
BEGIN:VEVENT
DTSTART;TZID=UTC:20211218T160000
DTEND;TZID=UTC:20211218T233000
DTSTAMP:20260425T011901
CREATED:20211012T131104Z
LAST-MODIFIED:20211012T131104Z
UID:983-1639843200-1639870200@www.chezkane.com
SUMMARY:Stockholm Rock Out
DESCRIPTION:
URL:https://www.chezkane.com/event/stockholm-rock-out/
LOCATION:Stora Fållan
ATTACH;FMTTYPE=image/jpeg:https://www.chezkane.com/wp-content/uploads/2021/10/Rock-Out-e1634044240950.jpg
END:VEVENT
BEGIN:VEVENT
DTSTART;VALUE=DATE:20211204
DTEND;VALUE=DATE:20211205
DTSTAMP:20260425T011901
CREATED:20211011T124911Z
LAST-MODIFIED:20211011T133909Z
UID:956-1638576000-1638662399@www.chezkane.com
SUMMARY:Winter Rocks
DESCRIPTION:
URL:https://www.chezkane.com/event/winter-rocks/
LOCATION:Corporation\, Sheffield\, United Kingdom
ATTACH;FMTTYPE=image/jpeg:https://www.chezkane.com/wp-content/uploads/2021/10/wr-e1633959429347.jpg
END:VEVENT
END:VCALENDAR